BEGIN:VCALENDAR
VERSION:2.0
PRODID:-//wp-events-plugin.com//6.6.3//EN
BEGIN:VEVENT
UID:5@uumtoday.com
DTSTART;TZID=Asia/Kuala_Lumpur:20240806T090000
DTEND;TZID=Asia/Kuala_Lumpur:20240807T170000
DTSTAMP:20240806T104203Z
URL:https://uumtoday.com/events/pelancaran-bulan-kemerdekaan-ke-67-tahun-2
 024/
SUMMARY:Pelancaran Bulan Kemerdekaan ke 67 Tahun 2024
DESCRIPTION:
ATTACH;FMTTYPE=image/jpeg:https://uumtoday.com/wp-content/uploads/2024/08/
 WhatsApp-Image-2024-08-06-at-10.43.16_e91de2e5.jpg
END:VEVENT
BEGIN:VTIMEZONE
TZID:Asia/Kuala_Lumpur
X-LIC-LOCATION:Asia/Kuala_Lumpur
BEGIN:STANDARD
DTSTART:20230807T090000
TZOFFSETFROM:+0800
TZOFFSETTO:+0800
TZNAME:+08
END:STANDARD
END:VTIMEZONE
END:VCALENDAR